BEGIN:VCALENDAR
VERSION:2.0
PRODID:-//Malvern Joggers - ECPv6.15.14//NONSGML v1.0//EN
CALSCALE:GREGORIAN
METHOD:PUBLISH
X-WR-CALNAME:Malvern Joggers
X-ORIGINAL-URL:https://www.malvernjoggers.co.uk
X-WR-CALDESC:Events for Malvern Joggers
REFRESH-INTERVAL;VALUE=DURATION:PT1H
X-Robots-Tag:noindex
X-PUBLISHED-TTL:PT1H
BEGIN:VTIMEZONE
TZID:Europe/London
BEGIN:DAYLIGHT
TZOFFSETFROM:+0000
TZOFFSETTO:+0100
TZNAME:BST
DTSTART:20220327T010000
END:DAYLIGHT
BEGIN:STANDARD
TZOFFSETFROM:+0100
TZOFFSETTO:+0000
TZNAME:GMT
DTSTART:20221030T010000
END:STANDARD
BEGIN:DAYLIGHT
TZOFFSETFROM:+0000
TZOFFSETTO:+0100
TZNAME:BST
DTSTART:20230326T010000
END:DAYLIGHT
BEGIN:STANDARD
TZOFFSETFROM:+0100
TZOFFSETTO:+0000
TZNAME:GMT
DTSTART:20231029T010000
END:STANDARD
BEGIN:DAYLIGHT
TZOFFSETFROM:+0000
TZOFFSETTO:+0100
TZNAME:BST
DTSTART:20240331T010000
END:DAYLIGHT
BEGIN:STANDARD
TZOFFSETFROM:+0100
TZOFFSETTO:+0000
TZNAME:GMT
DTSTART:20241027T010000
END:STANDARD
END:VTIMEZONE
BEGIN:VEVENT
DTSTART;TZID=Europe/London:20231215T190000
DTEND;TZID=Europe/London:20231216T000000
DTSTAMP:20260424T203347
CREATED:20231019T194121Z
LAST-MODIFIED:20231116T190211Z
UID:12598-1702666800-1702684800@www.malvernjoggers.co.uk
SUMMARY:MJs Christmas Party 2023
DESCRIPTION:Our Christmas party tickets are now on sale at £8.00 for members and £10.00 for non-members. Please purchase your tickets online\, we only have 100 tickets available so don't delay. We are asking if everyone could please bring a plate or two of food to share. We have produce a list of food ideas or maybe bring your special dishes - here. Please bring food pre-cut to make it easier on the night. Also label any vegetarian\, vegan and gluten free food. We will also be selling raffle tickets on the night and any donations for the charity raffle will be very much appreciated. The raffle will be drawn on the night. On the night we will announce our Malvern Joggers Awards so please make sure you cast your vote by clicking here. Remember your dancing shoes as we will finish the evening with a Disco. Last orders are 11pm. Proceeds from evening will go to The Cart Shed (Our Club Charity).
URL:https://www.malvernjoggers.co.uk/event/mjs-christmas-party-23/
LOCATION:Malvern Rugby Club\, The Clubhouse\, Spring Ln\, Malvern\, Worcestershire\, WR14 1AJ
CATEGORIES:Social Events
ORGANIZER;CN="Malvern Joggers":MAILTO: joinus@malvernjoggers.co.uk
END:VEVENT
END:VCALENDAR