BEGIN:VCALENDAR
VERSION:2.0
PRODID:-//Malvern Joggers - ECPv6.15.14//NONSGML v1.0//EN
CALSCALE:GREGORIAN
METHOD:PUBLISH
X-WR-CALNAME:Malvern Joggers
X-ORIGINAL-URL:https://www.malvernjoggers.co.uk
X-WR-CALDESC:Events for Malvern Joggers
REFRESH-INTERVAL;VALUE=DURATION:PT1H
X-Robots-Tag:noindex
X-PUBLISHED-TTL:PT1H
BEGIN:VTIMEZONE
TZID:Europe/London
BEGIN:DAYLIGHT
TZOFFSETFROM:+0000
TZOFFSETTO:+0100
TZNAME:BST
DTSTART:20210328T010000
END:DAYLIGHT
BEGIN:STANDARD
TZOFFSETFROM:+0100
TZOFFSETTO:+0000
TZNAME:GMT
DTSTART:20211031T010000
END:STANDARD
BEGIN:DAYLIGHT
TZOFFSETFROM:+0000
TZOFFSETTO:+0100
TZNAME:BST
DTSTART:20220327T010000
END:DAYLIGHT
BEGIN:STANDARD
TZOFFSETFROM:+0100
TZOFFSETTO:+0000
TZNAME:GMT
DTSTART:20221030T010000
END:STANDARD
BEGIN:DAYLIGHT
TZOFFSETFROM:+0000
TZOFFSETTO:+0100
TZNAME:BST
DTSTART:20230326T010000
END:DAYLIGHT
BEGIN:STANDARD
TZOFFSETFROM:+0100
TZOFFSETTO:+0000
TZNAME:GMT
DTSTART:20231029T010000
END:STANDARD
BEGIN:DAYLIGHT
TZOFFSETFROM:+0000
TZOFFSETTO:+0100
TZNAME:BST
DTSTART:20240331T010000
END:DAYLIGHT
BEGIN:STANDARD
TZOFFSETFROM:+0100
TZOFFSETTO:+0000
TZNAME:GMT
DTSTART:20241027T010000
END:STANDARD
BEGIN:DAYLIGHT
TZOFFSETFROM:+0000
TZOFFSETTO:+0100
TZNAME:BST
DTSTART:20250330T010000
END:DAYLIGHT
BEGIN:STANDARD
TZOFFSETFROM:+0100
TZOFFSETTO:+0000
TZNAME:GMT
DTSTART:20251026T010000
END:STANDARD
BEGIN:DAYLIGHT
TZOFFSETFROM:+0000
TZOFFSETTO:+0100
TZNAME:BST
DTSTART:20260329T010000
END:DAYLIGHT
BEGIN:STANDARD
TZOFFSETFROM:+0100
TZOFFSETTO:+0000
TZNAME:GMT
DTSTART:20261025T010000
END:STANDARD
END:VTIMEZONE
BEGIN:VEVENT
DTSTART;TZID=Europe/London:20251212T190000
DTEND;TZID=Europe/London:20251212T233000
DTSTAMP:20260420T130741
CREATED:20250821T193148Z
LAST-MODIFIED:20251102T183944Z
UID:16027-1765566000-1765582200@www.malvernjoggers.co.uk
SUMMARY:MJs Christmas Party 2025
DESCRIPTION:Christmas Party Tickets Now On Sale! Get ready for a festive night to remember—our annual Christmas Party is happening at the beautiful Mount Pleasant Hotel\, and tickets are now available for just £40.00! What’s Included?Your ticket includes a welcome drink and delicious food to kick off the evening in style. The full menu is available here Limited AvailabilityBook online now to secure your spot before they’re gone! Club Awards & Charity RaffleWe’ll be announcing our Club Awards during the evening\, with voting details coming soon. Plus\, we’ll be holding a charity raffle—raffle tickets will be sold on the night\, and donations are warmly welcomed. All proceeds will go to our club charity\, Heartstart Malvern  Dance the Night AwayBring your best moves and your dancing shoes—we’ll end the night with a lively Disco to celebrate the season in style!
URL:https://www.malvernjoggers.co.uk/event/mjs-christmas-party-25/
LOCATION:Mount Pleasant Hotel\, 50 Bellevue Terrace\, Malvern\, WR14 4PZ
CATEGORIES:Social Events
ORGANIZER;CN="Malvern Joggers":MAILTO: joinus@malvernjoggers.co.uk
END:VEVENT
BEGIN:VEVENT
DTSTART;TZID=Europe/London:20250926T190000
DTEND;TZID=Europe/London:20250926T220000
DTSTAMP:20260420T130741
CREATED:20250901T160558Z
LAST-MODIFIED:20250901T184041Z
UID:16051-1758913200-1758924000@www.malvernjoggers.co.uk
SUMMARY:Malvern Joggers Social Gathering
DESCRIPTION:You're Invited!Join us for a vibrant evening of celebration at Valentinos (Worcester) as we toast to an incredible year of achievements\, milestones\, and memories. Let’s come together to reflect\, connect\, and raise a glass to everything we’ve accomplished so far! Drinks available at the bar — sip\, mingle\, and enjoy at your leisure. Secure your spotPlease pay your deposit by 16th September to confirm your attendance. Once received\, we’ll send out pre-order options and details for the final payment. Let’s make it a night to remember!
URL:https://www.malvernjoggers.co.uk/event/malvern-joggers-meal-2025/
LOCATION:Valentinos\, 43 Foregate Street\, Worcester\, WR1 1EE
CATEGORIES:Social Events
ORGANIZER;CN="Malvern Joggers":MAILTO: joinus@malvernjoggers.co.uk
END:VEVENT
BEGIN:VEVENT
DTSTART;TZID=Europe/London:20250206T190000
DTEND;TZID=Europe/London:20250206T220000
DTSTAMP:20260420T130741
CREATED:20250429T114159Z
LAST-MODIFIED:20260124T210426Z
UID:15554-1738868400-1738879200@www.malvernjoggers.co.uk
SUMMARY:Quiz night
DESCRIPTION:Join us for an exciting quiz night at Malvern Rugby Club on February 6th at 7 PM\, hosted by "Northern Cupid" quiz master Mark Walker! Tickets are just £2.50 each - Teams are a maximum of 6 people\n\nWe have 100 places available\, so gather your friends and family for a fun-filled evening and help us make a difference.\n\nDon't miss out! Get your online tickets below.
URL:https://www.malvernjoggers.co.uk/event/quiz-night/
LOCATION:Malvern Rugby Club\, The Clubhouse\, Spring Ln\, Malvern\, Worcestershire\, WR14 1AJ
CATEGORIES:Social Events
ORGANIZER;CN="Malvern Joggers":MAILTO: joinus@malvernjoggers.co.uk
END:VEVENT
BEGIN:VEVENT
DTSTART;TZID=Europe/London:20241213T190000
DTEND;TZID=Europe/London:20241213T234500
DTSTAMP:20260420T130741
CREATED:20241016T170320Z
LAST-MODIFIED:20241030T164026Z
UID:14942-1734116400-1734133500@www.malvernjoggers.co.uk
SUMMARY:MJs Christmas Party 2024
DESCRIPTION:Our Christmas party tickets are now on sale at £8.00 for members and £10.00 for non-members. Please purchase your tickets online\, we only have 100 tickets available so don't delay. We are asking if everyone could please bring a plate or two of food to share. We have produce a list of food ideas or maybe bring your special dishes. Food link. Please bring food pre-cut to make it easier on the night. Also label any vegetarian\, vegan and gluten free food. We will also be selling raffle tickets on the night and any donations for the charity raffle will be very much appreciated. The raffle will be drawn on the night. On the night we will announce our Malvern Joggers Awards. Voting Link. Remember your dancing shoes as we will finish the evening with a Disco. Last orders are 11pm. Proceeds from evening will go to Dementia Meeting Centre in Malvern (Our Club Charity).
URL:https://www.malvernjoggers.co.uk/event/mjs-christmas-party-24/
LOCATION:Malvern Rugby Club\, The Clubhouse\, Spring Ln\, Malvern\, Worcestershire\, WR14 1AJ
CATEGORIES:Social Events
ORGANIZER;CN="Malvern Joggers":MAILTO: joinus@malvernjoggers.co.uk
END:VEVENT
BEGIN:VEVENT
DTSTART;TZID=Europe/London:20240718T190000
DTEND;TZID=Europe/London:20240718T230000
DTSTAMP:20260420T130741
CREATED:20240621T170939Z
LAST-MODIFIED:20240718T104345Z
UID:14038-1721329200-1721343600@www.malvernjoggers.co.uk
SUMMARY:Malvern Joggers Curry Night
DESCRIPTION:A curry night in celebration of the fantastic marathon/half marathon and 10km achievements. \nTicket includes set menu as outlined below: \nPre starters - Poppadoms\, chutneys etcStartersMainBread \nDrinks can be purchased separately from the bar. \nWhen you purchase a ticket\, we will ask you to outline any dietary requirements you may have.
URL:https://www.malvernjoggers.co.uk/event/malvern-joggers-curry-night-2024/
LOCATION:Vasai\, 267-269 Worcester Rd\, Malvern\, WR14 1AA
CATEGORIES:Social Events
ORGANIZER;CN="Malvern Joggers":MAILTO: joinus@malvernjoggers.co.uk
END:VEVENT
BEGIN:VEVENT
DTSTART;VALUE=DATE:20240428
DTEND;VALUE=DATE:20240429
DTSTAMP:20260420T130741
CREATED:20240222T202631Z
LAST-MODIFIED:20240326T193706Z
UID:13363-1714262400-1714348799@www.malvernjoggers.co.uk
SUMMARY:Club Half and 10k
DESCRIPTION:MJ Club Half\, 10k and 5K Sunday 28th April – Last year we held a club “fun” half marathon\, organised by Keith Ruff\, and we are running this again on Sunday 28th April. This year though we want to add a 10K and a 5K for all abilities to run\, starting and finishing at Victoria Park Malvern. We will provide routes and also set off in waves so that we can all finish within similar times. \nWe’ll bring the tea if you can bring cakes. \nHalf Marathon start 8am; 10K start 8.45am\, 5K start 9.45am \nCash donations on the day for the charity will be kindly appreciated
URL:https://www.malvernjoggers.co.uk/event/club-half-and-10k/
LOCATION:TBC
CATEGORIES:Social Events
ORGANIZER;CN="Malvern Joggers":MAILTO: joinus@malvernjoggers.co.uk
END:VEVENT
BEGIN:VEVENT
DTSTART;TZID=Europe/London:20240122T190000
DTEND;TZID=Europe/London:20240122T210000
DTSTAMP:20260420T130741
CREATED:20231019T193843Z
LAST-MODIFIED:20231024T180413Z
UID:12595-1705950000-1705957200@www.malvernjoggers.co.uk
SUMMARY:An evening with Nicky Spinks
DESCRIPTION:An amazing evening is in store as we welcome Nicky Spinks\, an ultra running inspiration to share her life\, her racing achievements & some of her recent races including the highs & the lows \nHot off the Montane Winter Spine race 2024\, a 268 mile race along the iconic Pennine Way\, the Malvern Joggers together with facebook group “Running/Hiking the Malverns” are delighted to announce that Nicky Spinks will be joining us in Malvern on Monday 22nd January 2024 \nNicky is an inspirational british long distance runner\, specialising in fell running\, who has achieving numerous wins and success\, setting the women’s records for the major fell-running challenges the Ramsay Round\, the Paddy Buckley Round and the Bob Graham Round. She is also holder of the overall record for the double Bob Graham Round and the only person ever to complete doubles of the other two Rounds \nShe has also won Ultra Tour Monte Rosa\, Grand Raid Pyrenees\, Ten Peaks\, The Fellsman\, Arc of Attrition\, UTS 50 and many more and including taking part in the very challenging Barclay marathon event in the U.S. having been last woman standing\, twice! \nThe evening format will be based around Nicky’s talk along with a question and answer session & will take place at Malvern Rugby Club\, doors open at 7pm\, for a 7.30 start. \nAll profits from the event will be going to Nicky’s chosen charity\, Odyssey and The Cart Shed
URL:https://www.malvernjoggers.co.uk/event/an-evening-with-nicky-spinks/
LOCATION:Malvern Rugby Club\, The Clubhouse\, Spring Ln\, Malvern\, Worcestershire\, WR14 1AJ
CATEGORIES:Social Events
ORGANIZER;CN="Malvern Joggers":MAILTO: joinus@malvernjoggers.co.uk
END:VEVENT
BEGIN:VEVENT
DTSTART;TZID=Europe/London:20231215T190000
DTEND;TZID=Europe/London:20231216T000000
DTSTAMP:20260420T130741
CREATED:20231019T194121Z
LAST-MODIFIED:20231116T190211Z
UID:12598-1702666800-1702684800@www.malvernjoggers.co.uk
SUMMARY:MJs Christmas Party 2023
DESCRIPTION:Our Christmas party tickets are now on sale at £8.00 for members and £10.00 for non-members. Please purchase your tickets online\, we only have 100 tickets available so don't delay. We are asking if everyone could please bring a plate or two of food to share. We have produce a list of food ideas or maybe bring your special dishes - here. Please bring food pre-cut to make it easier on the night. Also label any vegetarian\, vegan and gluten free food. We will also be selling raffle tickets on the night and any donations for the charity raffle will be very much appreciated. The raffle will be drawn on the night. On the night we will announce our Malvern Joggers Awards so please make sure you cast your vote by clicking here. Remember your dancing shoes as we will finish the evening with a Disco. Last orders are 11pm. Proceeds from evening will go to The Cart Shed (Our Club Charity).
URL:https://www.malvernjoggers.co.uk/event/mjs-christmas-party-23/
LOCATION:Malvern Rugby Club\, The Clubhouse\, Spring Ln\, Malvern\, Worcestershire\, WR14 1AJ
CATEGORIES:Social Events
ORGANIZER;CN="Malvern Joggers":MAILTO: joinus@malvernjoggers.co.uk
END:VEVENT
BEGIN:VEVENT
DTSTART;TZID=Europe/London:20231026T190000
DTEND;TZID=Europe/London:20231026T230000
DTSTAMP:20260420T130741
CREATED:20230926T194650Z
LAST-MODIFIED:20231019T193300Z
UID:12511-1698346800-1698361200@www.malvernjoggers.co.uk
SUMMARY:Malvern Joggers Curry Night
DESCRIPTION:A curry night in celebration of the fantastic marathon/half marathon and 10km achievements. \nTicket includes set menu as outlined below: \nPre starters - Poppadoms\, chutneys etcStartersMainBread \nDrinks can be purchased separately from the bar. \nWhen you purchase a ticket\, we will ask you to outline any dietary requirements you may have.
URL:https://www.malvernjoggers.co.uk/event/malvern-joggers-curry-night-2023/
LOCATION:Vasai\, 267-269 Worcester Rd\, Malvern\, WR14 1AA
CATEGORIES:Social Events
ORGANIZER;CN="Malvern Joggers":MAILTO: joinus@malvernjoggers.co.uk
END:VEVENT
BEGIN:VEVENT
DTSTART;TZID=Europe/London:20230514T140000
DTEND;TZID=Europe/London:20230514T180000
DTSTAMP:20260420T130741
CREATED:20230326T181356Z
LAST-MODIFIED:20230405T190652Z
UID:11788-1684072800-1684087200@www.malvernjoggers.co.uk
SUMMARY:Family Fun Day 2023
DESCRIPTION:We will be celebrating Malvern Joggers 20 year anniversary on Sunday 14th May and we would love for all of our members and their families to join. Starting at 2pm.The plan is to have a fun-filled family afternoon with some running/walking! The course will be a 5km 4 person relay over farmland = 20km. You can run\, walk or skip it. Relays starting at 2:30pm. To ensure fairness and to encourage some friendly competitiveness\, groups will be chosen at random on the day by the committee\, with the aim of ensuring a mix of abilities/paces in each group. There will be a 1km children's route too.Bring a picnic blanket and/or camping chairs. There will be a bbq\, so if you can\, please can everyone bring a plate and any meat they would like on the bbq (similar to Summer bbq).A small donation is required to participate of £2.50 per person. All proceeds raised will be donated to The Cart Shed. If you would like to join\, please sign up using the link below.Venue: Peachley Caravan and Camping Park\, Peachley Court Farm\, Peachley Lane\, Lower Broadheath WR2 6QT How to book a placeTo book your place\, please use our online booking system below or tickets will be available on the day.
URL:https://www.malvernjoggers.co.uk/event/family-fun-day-2023/
LOCATION:Peachley Leisure\, Peachley Leisure\, Peachley Lane\, Lower Broadheath\, Worcester\, WR2 6QT
CATEGORIES:Social Events
ORGANIZER;CN="Malvern Joggers":MAILTO: joinus@malvernjoggers.co.uk
END:VEVENT
BEGIN:VEVENT
DTSTART;TZID=Europe/London:20230224T190000
DTEND;TZID=Europe/London:20230224T220000
DTSTAMP:20260420T130741
CREATED:20230126T190015Z
LAST-MODIFIED:20230130T085340Z
UID:11488-1677265200-1677276000@www.malvernjoggers.co.uk
SUMMARY:Malvern Joggers quiz
DESCRIPTION:We are very excited to announce that there will be a Malvern Joggers quiz at Malvern Rugby Club on Friday\, 24th February\, at 7pm. Our fellow Jogger\, Nicky Jones\, will be preparing the quiz. Guaranteed to be a night of laughs. To book a place\, please purchase your ticket or team ticket below. All profits will be given to nominated charity.
URL:https://www.malvernjoggers.co.uk/event/malvern-joggers-quiz/
LOCATION:Malvern Rugby Club\, The Clubhouse\, Spring Ln\, Malvern\, Worcestershire\, WR14 1AJ
CATEGORIES:Social Events
ORGANIZER;CN="Malvern Joggers":MAILTO: joinus@malvernjoggers.co.uk
END:VEVENT
BEGIN:VEVENT
DTSTART;TZID=Europe/London:20221202T190000
DTEND;TZID=Europe/London:20221203T000000
DTSTAMP:20260420T130741
CREATED:20221027T203327Z
LAST-MODIFIED:20221103T221753Z
UID:11154-1670007600-1670025600@www.malvernjoggers.co.uk
SUMMARY:MJs Christmas Party 2022
DESCRIPTION:Our Christmas party tickets are now on sale at £8.00 for members and £10.00 for non-members. Please purchase your tickets online\, we only have 100 tickets available so don't delay. We are asking if everyone could please bring a plate or two of food to share. We have produce a list of food ideas or maybe bring your special dishes - here. Please bring food pre-cut to make it easier on the night. Also label any vegetarian\, vegan and gluten free food. We will also be selling raffle tickets on the night and any donations for the charity raffle will be very much appreciated. The raffle will be drawn on the night. On the night we will announce our Malvern Joggers Awards so please make sure you cast your vote by clicking here. Remember your dancing shoes as we will finish the evening with a Disco. Last orders are 11pm. Proceeds from evening will go to Midlands Air Ambulance (Our Club Charity).
URL:https://www.malvernjoggers.co.uk/event/mjs-christmas-party-2022/
LOCATION:Malvern Rugby Club\, The Clubhouse\, Spring Ln\, Malvern\, Worcestershire\, WR14 1AJ
CATEGORIES:Social Events
ORGANIZER;CN="Malvern Joggers":MAILTO: joinus@malvernjoggers.co.uk
END:VEVENT
END:VCALENDAR