BEGIN:VCALENDAR
VERSION:2.0
PRODID:-//Malvern Joggers - ECPv6.15.14//NONSGML v1.0//EN
CALSCALE:GREGORIAN
METHOD:PUBLISH
X-WR-CALNAME:Malvern Joggers
X-ORIGINAL-URL:https://www.malvernjoggers.co.uk
X-WR-CALDESC:Events for Malvern Joggers
REFRESH-INTERVAL;VALUE=DURATION:PT1H
X-Robots-Tag:noindex
X-PUBLISHED-TTL:PT1H
BEGIN:VTIMEZONE
TZID:Europe/London
BEGIN:DAYLIGHT
TZOFFSETFROM:+0000
TZOFFSETTO:+0100
TZNAME:BST
DTSTART:20240331T010000
END:DAYLIGHT
BEGIN:STANDARD
TZOFFSETFROM:+0100
TZOFFSETTO:+0000
TZNAME:GMT
DTSTART:20241027T010000
END:STANDARD
BEGIN:DAYLIGHT
TZOFFSETFROM:+0000
TZOFFSETTO:+0100
TZNAME:BST
DTSTART:20250330T010000
END:DAYLIGHT
BEGIN:STANDARD
TZOFFSETFROM:+0100
TZOFFSETTO:+0000
TZNAME:GMT
DTSTART:20251026T010000
END:STANDARD
BEGIN:DAYLIGHT
TZOFFSETFROM:+0000
TZOFFSETTO:+0100
TZNAME:BST
DTSTART:20260329T010000
END:DAYLIGHT
BEGIN:STANDARD
TZOFFSETFROM:+0100
TZOFFSETTO:+0000
TZNAME:GMT
DTSTART:20261025T010000
END:STANDARD
END:VTIMEZONE
BEGIN:VEVENT
DTSTART;TZID=Europe/London:20250115T191500
DTEND;TZID=Europe/London:20250312T201500
DTSTAMP:20260423T202331
CREATED:20241009T182302Z
LAST-MODIFIED:20241210T190058Z
UID:14935-1736968500-1741810500@www.malvernjoggers.co.uk
SUMMARY:Couch to 5km - Nine Week Course
DESCRIPTION:Couch to 5km starting Wednesday 15th January at 7:15pm from Malvern Rugby Club! \nAre you looking to start running for the first time\, or looking to get back into it after time out? We will be running a 9 week couch to 5km programme and would love you to join!! Couch to 5K is a running plan for absolute beginners. There are plenty of benefits from getting into running. \nClub Membership is included when you join our Couch to 5K programme.
URL:https://www.malvernjoggers.co.uk/event/couch-to-5km-2/
LOCATION:Malvern Rugby Club\, The Clubhouse\, Spring Ln\, Malvern\, Worcestershire\, WR14 1AJ
ORGANIZER;CN="Malvern Joggers":MAILTO: joinus@malvernjoggers.co.uk
END:VEVENT
BEGIN:VEVENT
DTSTART;TZID=Europe/London:20250206T190000
DTEND;TZID=Europe/London:20250206T220000
DTSTAMP:20260423T202331
CREATED:20250429T114159Z
LAST-MODIFIED:20260124T210426Z
UID:15554-1738868400-1738879200@www.malvernjoggers.co.uk
SUMMARY:Quiz night
DESCRIPTION:Join us for an exciting quiz night at Malvern Rugby Club on February 6th at 7 PM\, hosted by "Northern Cupid" quiz master Mark Walker! Tickets are just £2.50 each - Teams are a maximum of 6 people\n\nWe have 100 places available\, so gather your friends and family for a fun-filled evening and help us make a difference.\n\nDon't miss out! Get your online tickets below.
URL:https://www.malvernjoggers.co.uk/event/quiz-night/
LOCATION:Malvern Rugby Club\, The Clubhouse\, Spring Ln\, Malvern\, Worcestershire\, WR14 1AJ
CATEGORIES:Social Events
ORGANIZER;CN="Malvern Joggers":MAILTO: joinus@malvernjoggers.co.uk
END:VEVENT
END:VCALENDAR